BEGIN:VCALENDAR
VERSION:2.0
PRODID:-//Quer Leimen - ECPv6.15.11//NONSGML v1.0//EN
CALSCALE:GREGORIAN
METHOD:PUBLISH
X-WR-CALNAME:Quer Leimen
X-ORIGINAL-URL:https://quer-leimen.de
X-WR-CALDESC:Veranstaltungen für Quer Leimen
REFRESH-INTERVAL;VALUE=DURATION:PT1H
X-Robots-Tag:noindex
X-PUBLISHED-TTL:PT1H
BEGIN:VTIMEZONE
TZID:Europe/Berlin
BEGIN:DAYLIGHT
TZOFFSETFROM:+0100
TZOFFSETTO:+0200
TZNAME:CEST
DTSTART:20250330T010000
END:DAYLIGHT
BEGIN:STANDARD
TZOFFSETFROM:+0200
TZOFFSETTO:+0100
TZNAME:CET
DTSTART:20251026T010000
END:STANDARD
BEGIN:DAYLIGHT
TZOFFSETFROM:+0100
TZOFFSETTO:+0200
TZNAME:CEST
DTSTART:20260329T010000
END:DAYLIGHT
BEGIN:STANDARD
TZOFFSETFROM:+0200
TZOFFSETTO:+0100
TZNAME:CET
DTSTART:20261025T010000
END:STANDARD
BEGIN:DAYLIGHT
TZOFFSETFROM:+0100
TZOFFSETTO:+0200
TZNAME:CEST
DTSTART:20270328T010000
END:DAYLIGHT
BEGIN:STANDARD
TZOFFSETFROM:+0200
TZOFFSETTO:+0100
TZNAME:CET
DTSTART:20271031T010000
END:STANDARD
END:VTIMEZONE
BEGIN:VEVENT
DTSTART;TZID=Europe/Berlin:20260430T180000
DTEND;TZID=Europe/Berlin:20260430T190000
DTSTAMP:20260425T165404
CREATED:20250415T094116Z
LAST-MODIFIED:20251119T110711Z
UID:10010179-1777572000-1777575600@quer-leimen.de
SUMMARY:Workout im QUER
DESCRIPTION:WORKOUT im QUER! jeden Donnerstag 18–19 Uhr\, \nKomm vorbei zum gemeinsamen Workout – egal ob Yoga\, \nPilates oder Bauch-Beine-Po – Hauptsache Bewegung\, \nDehnung und Entspannung \nMitbringen? – Lust & eine Yoga-Matte
URL:https://quer-leimen.de/veranstaltungen/workout-im-quer-3-2-2/2026-04-30/
LOCATION:Quartiersbüro\, Rathausstraße 15a\, Leimen\, 69181\, Deutschland
ATTACH;FMTTYPE=image/png:https://quer-leimen.de/wp-content/uploads/2025/02/Workout-Plakat_18.02.2025.png
END:VEVENT
BEGIN:VEVENT
DTSTART;TZID=Europe/Berlin:20260507T180000
DTEND;TZID=Europe/Berlin:20260507T190000
DTSTAMP:20260425T165404
CREATED:20250415T094116Z
LAST-MODIFIED:20251119T110711Z
UID:10010180-1778176800-1778180400@quer-leimen.de
SUMMARY:Workout im QUER
DESCRIPTION:WORKOUT im QUER! jeden Donnerstag 18–19 Uhr\, \nKomm vorbei zum gemeinsamen Workout – egal ob Yoga\, \nPilates oder Bauch-Beine-Po – Hauptsache Bewegung\, \nDehnung und Entspannung \nMitbringen? – Lust & eine Yoga-Matte
URL:https://quer-leimen.de/veranstaltungen/workout-im-quer-3-2-2/2026-05-07/
LOCATION:Quartiersbüro\, Rathausstraße 15a\, Leimen\, 69181\, Deutschland
ATTACH;FMTTYPE=image/png:https://quer-leimen.de/wp-content/uploads/2025/02/Workout-Plakat_18.02.2025.png
END:VEVENT
BEGIN:VEVENT
DTSTART;TZID=Europe/Berlin:20260514T180000
DTEND;TZID=Europe/Berlin:20260514T190000
DTSTAMP:20260425T165404
CREATED:20250415T094116Z
LAST-MODIFIED:20251119T110711Z
UID:10010181-1778781600-1778785200@quer-leimen.de
SUMMARY:Workout im QUER
DESCRIPTION:WORKOUT im QUER! jeden Donnerstag 18–19 Uhr\, \nKomm vorbei zum gemeinsamen Workout – egal ob Yoga\, \nPilates oder Bauch-Beine-Po – Hauptsache Bewegung\, \nDehnung und Entspannung \nMitbringen? – Lust & eine Yoga-Matte
URL:https://quer-leimen.de/veranstaltungen/workout-im-quer-3-2-2/2026-05-14/
LOCATION:Quartiersbüro\, Rathausstraße 15a\, Leimen\, 69181\, Deutschland
ATTACH;FMTTYPE=image/png:https://quer-leimen.de/wp-content/uploads/2025/02/Workout-Plakat_18.02.2025.png
END:VEVENT
BEGIN:VEVENT
DTSTART;TZID=Europe/Berlin:20260521T180000
DTEND;TZID=Europe/Berlin:20260521T190000
DTSTAMP:20260425T165404
CREATED:20250415T094116Z
LAST-MODIFIED:20251119T110711Z
UID:10010182-1779386400-1779390000@quer-leimen.de
SUMMARY:Workout im QUER
DESCRIPTION:WORKOUT im QUER! jeden Donnerstag 18–19 Uhr\, \nKomm vorbei zum gemeinsamen Workout – egal ob Yoga\, \nPilates oder Bauch-Beine-Po – Hauptsache Bewegung\, \nDehnung und Entspannung \nMitbringen? – Lust & eine Yoga-Matte
URL:https://quer-leimen.de/veranstaltungen/workout-im-quer-3-2-2/2026-05-21/
LOCATION:Quartiersbüro\, Rathausstraße 15a\, Leimen\, 69181\, Deutschland
ATTACH;FMTTYPE=image/png:https://quer-leimen.de/wp-content/uploads/2025/02/Workout-Plakat_18.02.2025.png
END:VEVENT
BEGIN:VEVENT
DTSTART;TZID=Europe/Berlin:20260528T180000
DTEND;TZID=Europe/Berlin:20260528T190000
DTSTAMP:20260425T165404
CREATED:20250415T094116Z
LAST-MODIFIED:20251119T110711Z
UID:10010183-1779991200-1779994800@quer-leimen.de
SUMMARY:Workout im QUER
DESCRIPTION:WORKOUT im QUER! jeden Donnerstag 18–19 Uhr\, \nKomm vorbei zum gemeinsamen Workout – egal ob Yoga\, \nPilates oder Bauch-Beine-Po – Hauptsache Bewegung\, \nDehnung und Entspannung \nMitbringen? – Lust & eine Yoga-Matte
URL:https://quer-leimen.de/veranstaltungen/workout-im-quer-3-2-2/2026-05-28/
LOCATION:Quartiersbüro\, Rathausstraße 15a\, Leimen\, 69181\, Deutschland
ATTACH;FMTTYPE=image/png:https://quer-leimen.de/wp-content/uploads/2025/02/Workout-Plakat_18.02.2025.png
END:VEVENT
BEGIN:VEVENT
DTSTART;TZID=Europe/Berlin:20260604T180000
DTEND;TZID=Europe/Berlin:20260604T190000
DTSTAMP:20260425T165404
CREATED:20250415T094116Z
LAST-MODIFIED:20251119T110711Z
UID:10010184-1780596000-1780599600@quer-leimen.de
SUMMARY:Workout im QUER
DESCRIPTION:WORKOUT im QUER! jeden Donnerstag 18–19 Uhr\, \nKomm vorbei zum gemeinsamen Workout – egal ob Yoga\, \nPilates oder Bauch-Beine-Po – Hauptsache Bewegung\, \nDehnung und Entspannung \nMitbringen? – Lust & eine Yoga-Matte
URL:https://quer-leimen.de/veranstaltungen/workout-im-quer-3-2-2/2026-06-04/
LOCATION:Quartiersbüro\, Rathausstraße 15a\, Leimen\, 69181\, Deutschland
ATTACH;FMTTYPE=image/png:https://quer-leimen.de/wp-content/uploads/2025/02/Workout-Plakat_18.02.2025.png
END:VEVENT
BEGIN:VEVENT
DTSTART;TZID=Europe/Berlin:20260611T180000
DTEND;TZID=Europe/Berlin:20260611T190000
DTSTAMP:20260425T165404
CREATED:20250415T094116Z
LAST-MODIFIED:20251119T110711Z
UID:10010185-1781200800-1781204400@quer-leimen.de
SUMMARY:Workout im QUER
DESCRIPTION:WORKOUT im QUER! jeden Donnerstag 18–19 Uhr\, \nKomm vorbei zum gemeinsamen Workout – egal ob Yoga\, \nPilates oder Bauch-Beine-Po – Hauptsache Bewegung\, \nDehnung und Entspannung \nMitbringen? – Lust & eine Yoga-Matte
URL:https://quer-leimen.de/veranstaltungen/workout-im-quer-3-2-2/2026-06-11/
LOCATION:Quartiersbüro\, Rathausstraße 15a\, Leimen\, 69181\, Deutschland
ATTACH;FMTTYPE=image/png:https://quer-leimen.de/wp-content/uploads/2025/02/Workout-Plakat_18.02.2025.png
END:VEVENT
BEGIN:VEVENT
DTSTART;TZID=Europe/Berlin:20260618T180000
DTEND;TZID=Europe/Berlin:20260618T190000
DTSTAMP:20260425T165404
CREATED:20250415T094116Z
LAST-MODIFIED:20251119T110711Z
UID:10010186-1781805600-1781809200@quer-leimen.de
SUMMARY:Workout im QUER
DESCRIPTION:WORKOUT im QUER! jeden Donnerstag 18–19 Uhr\, \nKomm vorbei zum gemeinsamen Workout – egal ob Yoga\, \nPilates oder Bauch-Beine-Po – Hauptsache Bewegung\, \nDehnung und Entspannung \nMitbringen? – Lust & eine Yoga-Matte
URL:https://quer-leimen.de/veranstaltungen/workout-im-quer-3-2-2/2026-06-18/
LOCATION:Quartiersbüro\, Rathausstraße 15a\, Leimen\, 69181\, Deutschland
ATTACH;FMTTYPE=image/png:https://quer-leimen.de/wp-content/uploads/2025/02/Workout-Plakat_18.02.2025.png
END:VEVENT
BEGIN:VEVENT
DTSTART;TZID=Europe/Berlin:20260625T180000
DTEND;TZID=Europe/Berlin:20260625T190000
DTSTAMP:20260425T165404
CREATED:20250415T094116Z
LAST-MODIFIED:20251119T110711Z
UID:10010187-1782410400-1782414000@quer-leimen.de
SUMMARY:Workout im QUER
DESCRIPTION:WORKOUT im QUER! jeden Donnerstag 18–19 Uhr\, \nKomm vorbei zum gemeinsamen Workout – egal ob Yoga\, \nPilates oder Bauch-Beine-Po – Hauptsache Bewegung\, \nDehnung und Entspannung \nMitbringen? – Lust & eine Yoga-Matte
URL:https://quer-leimen.de/veranstaltungen/workout-im-quer-3-2-2/2026-06-25/
LOCATION:Quartiersbüro\, Rathausstraße 15a\, Leimen\, 69181\, Deutschland
ATTACH;FMTTYPE=image/png:https://quer-leimen.de/wp-content/uploads/2025/02/Workout-Plakat_18.02.2025.png
END:VEVENT
BEGIN:VEVENT
DTSTART;TZID=Europe/Berlin:20260702T180000
DTEND;TZID=Europe/Berlin:20260702T190000
DTSTAMP:20260425T165404
CREATED:20250415T094116Z
LAST-MODIFIED:20251119T110711Z
UID:10010188-1783015200-1783018800@quer-leimen.de
SUMMARY:Workout im QUER
DESCRIPTION:WORKOUT im QUER! jeden Donnerstag 18–19 Uhr\, \nKomm vorbei zum gemeinsamen Workout – egal ob Yoga\, \nPilates oder Bauch-Beine-Po – Hauptsache Bewegung\, \nDehnung und Entspannung \nMitbringen? – Lust & eine Yoga-Matte
URL:https://quer-leimen.de/veranstaltungen/workout-im-quer-3-2-2/2026-07-02/
LOCATION:Quartiersbüro\, Rathausstraße 15a\, Leimen\, 69181\, Deutschland
ATTACH;FMTTYPE=image/png:https://quer-leimen.de/wp-content/uploads/2025/02/Workout-Plakat_18.02.2025.png
END:VEVENT
BEGIN:VEVENT
DTSTART;TZID=Europe/Berlin:20260709T180000
DTEND;TZID=Europe/Berlin:20260709T190000
DTSTAMP:20260425T165404
CREATED:20250415T094116Z
LAST-MODIFIED:20251119T110711Z
UID:10010189-1783620000-1783623600@quer-leimen.de
SUMMARY:Workout im QUER
DESCRIPTION:WORKOUT im QUER! jeden Donnerstag 18–19 Uhr\, \nKomm vorbei zum gemeinsamen Workout – egal ob Yoga\, \nPilates oder Bauch-Beine-Po – Hauptsache Bewegung\, \nDehnung und Entspannung \nMitbringen? – Lust & eine Yoga-Matte
URL:https://quer-leimen.de/veranstaltungen/workout-im-quer-3-2-2/2026-07-09/
LOCATION:Quartiersbüro\, Rathausstraße 15a\, Leimen\, 69181\, Deutschland
ATTACH;FMTTYPE=image/png:https://quer-leimen.de/wp-content/uploads/2025/02/Workout-Plakat_18.02.2025.png
END:VEVENT
BEGIN:VEVENT
DTSTART;TZID=Europe/Berlin:20260716T180000
DTEND;TZID=Europe/Berlin:20260716T190000
DTSTAMP:20260425T165404
CREATED:20250415T094116Z
LAST-MODIFIED:20251119T110711Z
UID:10010190-1784224800-1784228400@quer-leimen.de
SUMMARY:Workout im QUER
DESCRIPTION:WORKOUT im QUER! jeden Donnerstag 18–19 Uhr\, \nKomm vorbei zum gemeinsamen Workout – egal ob Yoga\, \nPilates oder Bauch-Beine-Po – Hauptsache Bewegung\, \nDehnung und Entspannung \nMitbringen? – Lust & eine Yoga-Matte
URL:https://quer-leimen.de/veranstaltungen/workout-im-quer-3-2-2/2026-07-16/
LOCATION:Quartiersbüro\, Rathausstraße 15a\, Leimen\, 69181\, Deutschland
ATTACH;FMTTYPE=image/png:https://quer-leimen.de/wp-content/uploads/2025/02/Workout-Plakat_18.02.2025.png
END:VEVENT
BEGIN:VEVENT
DTSTART;TZID=Europe/Berlin:20260723T180000
DTEND;TZID=Europe/Berlin:20260723T190000
DTSTAMP:20260425T165404
CREATED:20250415T094116Z
LAST-MODIFIED:20251119T110711Z
UID:10010191-1784829600-1784833200@quer-leimen.de
SUMMARY:Workout im QUER
DESCRIPTION:WORKOUT im QUER! jeden Donnerstag 18–19 Uhr\, \nKomm vorbei zum gemeinsamen Workout – egal ob Yoga\, \nPilates oder Bauch-Beine-Po – Hauptsache Bewegung\, \nDehnung und Entspannung \nMitbringen? – Lust & eine Yoga-Matte
URL:https://quer-leimen.de/veranstaltungen/workout-im-quer-3-2-2/2026-07-23/
LOCATION:Quartiersbüro\, Rathausstraße 15a\, Leimen\, 69181\, Deutschland
ATTACH;FMTTYPE=image/png:https://quer-leimen.de/wp-content/uploads/2025/02/Workout-Plakat_18.02.2025.png
END:VEVENT
BEGIN:VEVENT
DTSTART;TZID=Europe/Berlin:20260730T180000
DTEND;TZID=Europe/Berlin:20260730T190000
DTSTAMP:20260425T165404
CREATED:20250415T094116Z
LAST-MODIFIED:20251119T110711Z
UID:10010192-1785434400-1785438000@quer-leimen.de
SUMMARY:Workout im QUER
DESCRIPTION:WORKOUT im QUER! jeden Donnerstag 18–19 Uhr\, \nKomm vorbei zum gemeinsamen Workout – egal ob Yoga\, \nPilates oder Bauch-Beine-Po – Hauptsache Bewegung\, \nDehnung und Entspannung \nMitbringen? – Lust & eine Yoga-Matte
URL:https://quer-leimen.de/veranstaltungen/workout-im-quer-3-2-2/2026-07-30/
LOCATION:Quartiersbüro\, Rathausstraße 15a\, Leimen\, 69181\, Deutschland
ATTACH;FMTTYPE=image/png:https://quer-leimen.de/wp-content/uploads/2025/02/Workout-Plakat_18.02.2025.png
END:VEVENT
BEGIN:VEVENT
DTSTART;TZID=Europe/Berlin:20260806T180000
DTEND;TZID=Europe/Berlin:20260806T190000
DTSTAMP:20260425T165404
CREATED:20250415T094116Z
LAST-MODIFIED:20251119T110711Z
UID:10010193-1786039200-1786042800@quer-leimen.de
SUMMARY:Workout im QUER
DESCRIPTION:WORKOUT im QUER! jeden Donnerstag 18–19 Uhr\, \nKomm vorbei zum gemeinsamen Workout – egal ob Yoga\, \nPilates oder Bauch-Beine-Po – Hauptsache Bewegung\, \nDehnung und Entspannung \nMitbringen? – Lust & eine Yoga-Matte
URL:https://quer-leimen.de/veranstaltungen/workout-im-quer-3-2-2/2026-08-06/
LOCATION:Quartiersbüro\, Rathausstraße 15a\, Leimen\, 69181\, Deutschland
ATTACH;FMTTYPE=image/png:https://quer-leimen.de/wp-content/uploads/2025/02/Workout-Plakat_18.02.2025.png
END:VEVENT
BEGIN:VEVENT
DTSTART;TZID=Europe/Berlin:20260813T180000
DTEND;TZID=Europe/Berlin:20260813T190000
DTSTAMP:20260425T165404
CREATED:20250415T094116Z
LAST-MODIFIED:20251119T110711Z
UID:10010194-1786644000-1786647600@quer-leimen.de
SUMMARY:Workout im QUER
DESCRIPTION:WORKOUT im QUER! jeden Donnerstag 18–19 Uhr\, \nKomm vorbei zum gemeinsamen Workout – egal ob Yoga\, \nPilates oder Bauch-Beine-Po – Hauptsache Bewegung\, \nDehnung und Entspannung \nMitbringen? – Lust & eine Yoga-Matte
URL:https://quer-leimen.de/veranstaltungen/workout-im-quer-3-2-2/2026-08-13/
LOCATION:Quartiersbüro\, Rathausstraße 15a\, Leimen\, 69181\, Deutschland
ATTACH;FMTTYPE=image/png:https://quer-leimen.de/wp-content/uploads/2025/02/Workout-Plakat_18.02.2025.png
END:VEVENT
BEGIN:VEVENT
DTSTART;TZID=Europe/Berlin:20260820T180000
DTEND;TZID=Europe/Berlin:20260820T190000
DTSTAMP:20260425T165404
CREATED:20250415T094116Z
LAST-MODIFIED:20251119T110711Z
UID:10010195-1787248800-1787252400@quer-leimen.de
SUMMARY:Workout im QUER
DESCRIPTION:WORKOUT im QUER! jeden Donnerstag 18–19 Uhr\, \nKomm vorbei zum gemeinsamen Workout – egal ob Yoga\, \nPilates oder Bauch-Beine-Po – Hauptsache Bewegung\, \nDehnung und Entspannung \nMitbringen? – Lust & eine Yoga-Matte
URL:https://quer-leimen.de/veranstaltungen/workout-im-quer-3-2-2/2026-08-20/
LOCATION:Quartiersbüro\, Rathausstraße 15a\, Leimen\, 69181\, Deutschland
ATTACH;FMTTYPE=image/png:https://quer-leimen.de/wp-content/uploads/2025/02/Workout-Plakat_18.02.2025.png
END:VEVENT
BEGIN:VEVENT
DTSTART;TZID=Europe/Berlin:20260827T180000
DTEND;TZID=Europe/Berlin:20260827T190000
DTSTAMP:20260425T165404
CREATED:20250415T094116Z
LAST-MODIFIED:20251119T110711Z
UID:10010196-1787853600-1787857200@quer-leimen.de
SUMMARY:Workout im QUER
DESCRIPTION:WORKOUT im QUER! jeden Donnerstag 18–19 Uhr\, \nKomm vorbei zum gemeinsamen Workout – egal ob Yoga\, \nPilates oder Bauch-Beine-Po – Hauptsache Bewegung\, \nDehnung und Entspannung \nMitbringen? – Lust & eine Yoga-Matte
URL:https://quer-leimen.de/veranstaltungen/workout-im-quer-3-2-2/2026-08-27/
LOCATION:Quartiersbüro\, Rathausstraße 15a\, Leimen\, 69181\, Deutschland
ATTACH;FMTTYPE=image/png:https://quer-leimen.de/wp-content/uploads/2025/02/Workout-Plakat_18.02.2025.png
END:VEVENT
BEGIN:VEVENT
DTSTART;TZID=Europe/Berlin:20260903T180000
DTEND;TZID=Europe/Berlin:20260903T190000
DTSTAMP:20260425T165404
CREATED:20250415T094116Z
LAST-MODIFIED:20251119T110711Z
UID:10010197-1788458400-1788462000@quer-leimen.de
SUMMARY:Workout im QUER
DESCRIPTION:WORKOUT im QUER! jeden Donnerstag 18–19 Uhr\, \nKomm vorbei zum gemeinsamen Workout – egal ob Yoga\, \nPilates oder Bauch-Beine-Po – Hauptsache Bewegung\, \nDehnung und Entspannung \nMitbringen? – Lust & eine Yoga-Matte
URL:https://quer-leimen.de/veranstaltungen/workout-im-quer-3-2-2/2026-09-03/
LOCATION:Quartiersbüro\, Rathausstraße 15a\, Leimen\, 69181\, Deutschland
ATTACH;FMTTYPE=image/png:https://quer-leimen.de/wp-content/uploads/2025/02/Workout-Plakat_18.02.2025.png
END:VEVENT
BEGIN:VEVENT
DTSTART;TZID=Europe/Berlin:20260910T180000
DTEND;TZID=Europe/Berlin:20260910T190000
DTSTAMP:20260425T165404
CREATED:20250415T094116Z
LAST-MODIFIED:20251119T110711Z
UID:10010198-1789063200-1789066800@quer-leimen.de
SUMMARY:Workout im QUER
DESCRIPTION:WORKOUT im QUER! jeden Donnerstag 18–19 Uhr\, \nKomm vorbei zum gemeinsamen Workout – egal ob Yoga\, \nPilates oder Bauch-Beine-Po – Hauptsache Bewegung\, \nDehnung und Entspannung \nMitbringen? – Lust & eine Yoga-Matte
URL:https://quer-leimen.de/veranstaltungen/workout-im-quer-3-2-2/2026-09-10/
LOCATION:Quartiersbüro\, Rathausstraße 15a\, Leimen\, 69181\, Deutschland
ATTACH;FMTTYPE=image/png:https://quer-leimen.de/wp-content/uploads/2025/02/Workout-Plakat_18.02.2025.png
END:VEVENT
BEGIN:VEVENT
DTSTART;TZID=Europe/Berlin:20260917T180000
DTEND;TZID=Europe/Berlin:20260917T190000
DTSTAMP:20260425T165404
CREATED:20250415T094116Z
LAST-MODIFIED:20251119T110711Z
UID:10010199-1789668000-1789671600@quer-leimen.de
SUMMARY:Workout im QUER
DESCRIPTION:WORKOUT im QUER! jeden Donnerstag 18–19 Uhr\, \nKomm vorbei zum gemeinsamen Workout – egal ob Yoga\, \nPilates oder Bauch-Beine-Po – Hauptsache Bewegung\, \nDehnung und Entspannung \nMitbringen? – Lust & eine Yoga-Matte
URL:https://quer-leimen.de/veranstaltungen/workout-im-quer-3-2-2/2026-09-17/
LOCATION:Quartiersbüro\, Rathausstraße 15a\, Leimen\, 69181\, Deutschland
ATTACH;FMTTYPE=image/png:https://quer-leimen.de/wp-content/uploads/2025/02/Workout-Plakat_18.02.2025.png
END:VEVENT
BEGIN:VEVENT
DTSTART;TZID=Europe/Berlin:20260924T180000
DTEND;TZID=Europe/Berlin:20260924T190000
DTSTAMP:20260425T165404
CREATED:20250415T094116Z
LAST-MODIFIED:20251119T110711Z
UID:10010200-1790272800-1790276400@quer-leimen.de
SUMMARY:Workout im QUER
DESCRIPTION:WORKOUT im QUER! jeden Donnerstag 18–19 Uhr\, \nKomm vorbei zum gemeinsamen Workout – egal ob Yoga\, \nPilates oder Bauch-Beine-Po – Hauptsache Bewegung\, \nDehnung und Entspannung \nMitbringen? – Lust & eine Yoga-Matte
URL:https://quer-leimen.de/veranstaltungen/workout-im-quer-3-2-2/2026-09-24/
LOCATION:Quartiersbüro\, Rathausstraße 15a\, Leimen\, 69181\, Deutschland
ATTACH;FMTTYPE=image/png:https://quer-leimen.de/wp-content/uploads/2025/02/Workout-Plakat_18.02.2025.png
END:VEVENT
BEGIN:VEVENT
DTSTART;TZID=Europe/Berlin:20261001T180000
DTEND;TZID=Europe/Berlin:20261001T190000
DTSTAMP:20260425T165404
CREATED:20250415T094116Z
LAST-MODIFIED:20251119T110711Z
UID:10010201-1790877600-1790881200@quer-leimen.de
SUMMARY:Workout im QUER
DESCRIPTION:WORKOUT im QUER! jeden Donnerstag 18–19 Uhr\, \nKomm vorbei zum gemeinsamen Workout – egal ob Yoga\, \nPilates oder Bauch-Beine-Po – Hauptsache Bewegung\, \nDehnung und Entspannung \nMitbringen? – Lust & eine Yoga-Matte
URL:https://quer-leimen.de/veranstaltungen/workout-im-quer-3-2-2/2026-10-01/
LOCATION:Quartiersbüro\, Rathausstraße 15a\, Leimen\, 69181\, Deutschland
ATTACH;FMTTYPE=image/png:https://quer-leimen.de/wp-content/uploads/2025/02/Workout-Plakat_18.02.2025.png
END:VEVENT
BEGIN:VEVENT
DTSTART;TZID=Europe/Berlin:20261008T180000
DTEND;TZID=Europe/Berlin:20261008T190000
DTSTAMP:20260425T165404
CREATED:20250415T094116Z
LAST-MODIFIED:20251119T110711Z
UID:10010202-1791482400-1791486000@quer-leimen.de
SUMMARY:Workout im QUER
DESCRIPTION:WORKOUT im QUER! jeden Donnerstag 18–19 Uhr\, \nKomm vorbei zum gemeinsamen Workout – egal ob Yoga\, \nPilates oder Bauch-Beine-Po – Hauptsache Bewegung\, \nDehnung und Entspannung \nMitbringen? – Lust & eine Yoga-Matte
URL:https://quer-leimen.de/veranstaltungen/workout-im-quer-3-2-2/2026-10-08/
LOCATION:Quartiersbüro\, Rathausstraße 15a\, Leimen\, 69181\, Deutschland
ATTACH;FMTTYPE=image/png:https://quer-leimen.de/wp-content/uploads/2025/02/Workout-Plakat_18.02.2025.png
END:VEVENT
BEGIN:VEVENT
DTSTART;TZID=Europe/Berlin:20261015T180000
DTEND;TZID=Europe/Berlin:20261015T190000
DTSTAMP:20260425T165404
CREATED:20250415T094116Z
LAST-MODIFIED:20251119T110711Z
UID:10010203-1792087200-1792090800@quer-leimen.de
SUMMARY:Workout im QUER
DESCRIPTION:WORKOUT im QUER! jeden Donnerstag 18–19 Uhr\, \nKomm vorbei zum gemeinsamen Workout – egal ob Yoga\, \nPilates oder Bauch-Beine-Po – Hauptsache Bewegung\, \nDehnung und Entspannung \nMitbringen? – Lust & eine Yoga-Matte
URL:https://quer-leimen.de/veranstaltungen/workout-im-quer-3-2-2/2026-10-15/
LOCATION:Quartiersbüro\, Rathausstraße 15a\, Leimen\, 69181\, Deutschland
ATTACH;FMTTYPE=image/png:https://quer-leimen.de/wp-content/uploads/2025/02/Workout-Plakat_18.02.2025.png
END:VEVENT
BEGIN:VEVENT
DTSTART;TZID=Europe/Berlin:20261022T180000
DTEND;TZID=Europe/Berlin:20261022T190000
DTSTAMP:20260425T165404
CREATED:20250415T094116Z
LAST-MODIFIED:20251119T110711Z
UID:10010204-1792692000-1792695600@quer-leimen.de
SUMMARY:Workout im QUER
DESCRIPTION:WORKOUT im QUER! jeden Donnerstag 18–19 Uhr\, \nKomm vorbei zum gemeinsamen Workout – egal ob Yoga\, \nPilates oder Bauch-Beine-Po – Hauptsache Bewegung\, \nDehnung und Entspannung \nMitbringen? – Lust & eine Yoga-Matte
URL:https://quer-leimen.de/veranstaltungen/workout-im-quer-3-2-2/2026-10-22/
LOCATION:Quartiersbüro\, Rathausstraße 15a\, Leimen\, 69181\, Deutschland
ATTACH;FMTTYPE=image/png:https://quer-leimen.de/wp-content/uploads/2025/02/Workout-Plakat_18.02.2025.png
END:VEVENT
BEGIN:VEVENT
DTSTART;TZID=Europe/Berlin:20261029T180000
DTEND;TZID=Europe/Berlin:20261029T190000
DTSTAMP:20260425T165404
CREATED:20250415T094116Z
LAST-MODIFIED:20251119T110711Z
UID:10010205-1793296800-1793300400@quer-leimen.de
SUMMARY:Workout im QUER
DESCRIPTION:WORKOUT im QUER! jeden Donnerstag 18–19 Uhr\, \nKomm vorbei zum gemeinsamen Workout – egal ob Yoga\, \nPilates oder Bauch-Beine-Po – Hauptsache Bewegung\, \nDehnung und Entspannung \nMitbringen? – Lust & eine Yoga-Matte
URL:https://quer-leimen.de/veranstaltungen/workout-im-quer-3-2-2/2026-10-29/
LOCATION:Quartiersbüro\, Rathausstraße 15a\, Leimen\, 69181\, Deutschland
ATTACH;FMTTYPE=image/png:https://quer-leimen.de/wp-content/uploads/2025/02/Workout-Plakat_18.02.2025.png
END:VEVENT
BEGIN:VEVENT
DTSTART;TZID=Europe/Berlin:20261105T180000
DTEND;TZID=Europe/Berlin:20261105T190000
DTSTAMP:20260425T165404
CREATED:20250415T094116Z
LAST-MODIFIED:20251119T110711Z
UID:10010206-1793901600-1793905200@quer-leimen.de
SUMMARY:Workout im QUER
DESCRIPTION:WORKOUT im QUER! jeden Donnerstag 18–19 Uhr\, \nKomm vorbei zum gemeinsamen Workout – egal ob Yoga\, \nPilates oder Bauch-Beine-Po – Hauptsache Bewegung\, \nDehnung und Entspannung \nMitbringen? – Lust & eine Yoga-Matte
URL:https://quer-leimen.de/veranstaltungen/workout-im-quer-3-2-2/2026-11-05/
LOCATION:Quartiersbüro\, Rathausstraße 15a\, Leimen\, 69181\, Deutschland
ATTACH;FMTTYPE=image/png:https://quer-leimen.de/wp-content/uploads/2025/02/Workout-Plakat_18.02.2025.png
END:VEVENT
BEGIN:VEVENT
DTSTART;TZID=Europe/Berlin:20261112T180000
DTEND;TZID=Europe/Berlin:20261112T190000
DTSTAMP:20260425T165404
CREATED:20250415T094116Z
LAST-MODIFIED:20251119T110711Z
UID:10010207-1794506400-1794510000@quer-leimen.de
SUMMARY:Workout im QUER
DESCRIPTION:WORKOUT im QUER! jeden Donnerstag 18–19 Uhr\, \nKomm vorbei zum gemeinsamen Workout – egal ob Yoga\, \nPilates oder Bauch-Beine-Po – Hauptsache Bewegung\, \nDehnung und Entspannung \nMitbringen? – Lust & eine Yoga-Matte
URL:https://quer-leimen.de/veranstaltungen/workout-im-quer-3-2-2/2026-11-12/
LOCATION:Quartiersbüro\, Rathausstraße 15a\, Leimen\, 69181\, Deutschland
ATTACH;FMTTYPE=image/png:https://quer-leimen.de/wp-content/uploads/2025/02/Workout-Plakat_18.02.2025.png
END:VEVENT
BEGIN:VEVENT
DTSTART;TZID=Europe/Berlin:20261119T180000
DTEND;TZID=Europe/Berlin:20261119T190000
DTSTAMP:20260425T165404
CREATED:20250415T094116Z
LAST-MODIFIED:20251119T110711Z
UID:10010208-1795111200-1795114800@quer-leimen.de
SUMMARY:Workout im QUER
DESCRIPTION:WORKOUT im QUER! jeden Donnerstag 18–19 Uhr\, \nKomm vorbei zum gemeinsamen Workout – egal ob Yoga\, \nPilates oder Bauch-Beine-Po – Hauptsache Bewegung\, \nDehnung und Entspannung \nMitbringen? – Lust & eine Yoga-Matte
URL:https://quer-leimen.de/veranstaltungen/workout-im-quer-3-2-2/2026-11-19/
LOCATION:Quartiersbüro\, Rathausstraße 15a\, Leimen\, 69181\, Deutschland
ATTACH;FMTTYPE=image/png:https://quer-leimen.de/wp-content/uploads/2025/02/Workout-Plakat_18.02.2025.png
END:VEVENT
END:VCALENDAR