BEGIN:VCALENDAR
VERSION:2.0
PRODID:-//Quer Leimen - ECPv6.15.11//NONSGML v1.0//EN
CALSCALE:GREGORIAN
METHOD:PUBLISH
X-WR-CALNAME:Quer Leimen
X-ORIGINAL-URL:https://quer-leimen.de
X-WR-CALDESC:Veranstaltungen für Quer Leimen
REFRESH-INTERVAL;VALUE=DURATION:PT1H
X-Robots-Tag:noindex
X-PUBLISHED-TTL:PT1H
BEGIN:VTIMEZONE
TZID:Europe/Berlin
BEGIN:DAYLIGHT
TZOFFSETFROM:+0100
TZOFFSETTO:+0200
TZNAME:CEST
DTSTART:20250330T010000
END:DAYLIGHT
BEGIN:STANDARD
TZOFFSETFROM:+0200
TZOFFSETTO:+0100
TZNAME:CET
DTSTART:20251026T010000
END:STANDARD
BEGIN:DAYLIGHT
TZOFFSETFROM:+0100
TZOFFSETTO:+0200
TZNAME:CEST
DTSTART:20260329T010000
END:DAYLIGHT
BEGIN:STANDARD
TZOFFSETFROM:+0200
TZOFFSETTO:+0100
TZNAME:CET
DTSTART:20261025T010000
END:STANDARD
BEGIN:DAYLIGHT
TZOFFSETFROM:+0100
TZOFFSETTO:+0200
TZNAME:CEST
DTSTART:20270328T010000
END:DAYLIGHT
BEGIN:STANDARD
TZOFFSETFROM:+0200
TZOFFSETTO:+0100
TZNAME:CET
DTSTART:20271031T010000
END:STANDARD
END:VTIMEZONE
BEGIN:VEVENT
DTSTART;TZID=Europe/Berlin:20260423T193000
DTEND;TZID=Europe/Berlin:20260423T203000
DTSTAMP:20260421T133853
CREATED:20251029T093505Z
LAST-MODIFIED:20251202T124121Z
UID:10009565-1776972600-1776976200@quer-leimen.de
SUMMARY:Sport für Frauen
DESCRIPTION:
URL:https://quer-leimen.de/veranstaltungen/sport-fuer-frauen/2026-04-23/
LOCATION:Bürgerhaus Leimen\, Nußlocher Straße 16\, Leimen\, 69181\, Deutschland
ATTACH;FMTTYPE=application/pdf:https://quer-leimen.de/wp-content/uploads/2025/10/WerbungFrauensport.pdf
END:VEVENT
BEGIN:VEVENT
DTSTART;TZID=Europe/Berlin:20260430T193000
DTEND;TZID=Europe/Berlin:20260430T203000
DTSTAMP:20260421T133853
CREATED:20251029T093505Z
LAST-MODIFIED:20251202T124121Z
UID:10009566-1777577400-1777581000@quer-leimen.de
SUMMARY:Sport für Frauen
DESCRIPTION:
URL:https://quer-leimen.de/veranstaltungen/sport-fuer-frauen/2026-04-30/
LOCATION:Bürgerhaus Leimen\, Nußlocher Straße 16\, Leimen\, 69181\, Deutschland
ATTACH;FMTTYPE=application/pdf:https://quer-leimen.de/wp-content/uploads/2025/10/WerbungFrauensport.pdf
END:VEVENT
BEGIN:VEVENT
DTSTART;TZID=Europe/Berlin:20260507T193000
DTEND;TZID=Europe/Berlin:20260507T203000
DTSTAMP:20260421T133853
CREATED:20251029T093505Z
LAST-MODIFIED:20251202T124121Z
UID:10009567-1778182200-1778185800@quer-leimen.de
SUMMARY:Sport für Frauen
DESCRIPTION:
URL:https://quer-leimen.de/veranstaltungen/sport-fuer-frauen/2026-05-07/
LOCATION:Bürgerhaus Leimen\, Nußlocher Straße 16\, Leimen\, 69181\, Deutschland
ATTACH;FMTTYPE=application/pdf:https://quer-leimen.de/wp-content/uploads/2025/10/WerbungFrauensport.pdf
END:VEVENT
BEGIN:VEVENT
DTSTART;TZID=Europe/Berlin:20260514T193000
DTEND;TZID=Europe/Berlin:20260514T203000
DTSTAMP:20260421T133853
CREATED:20251029T093505Z
LAST-MODIFIED:20251202T124121Z
UID:10009568-1778787000-1778790600@quer-leimen.de
SUMMARY:Sport für Frauen
DESCRIPTION:
URL:https://quer-leimen.de/veranstaltungen/sport-fuer-frauen/2026-05-14/
LOCATION:Bürgerhaus Leimen\, Nußlocher Straße 16\, Leimen\, 69181\, Deutschland
ATTACH;FMTTYPE=application/pdf:https://quer-leimen.de/wp-content/uploads/2025/10/WerbungFrauensport.pdf
END:VEVENT
BEGIN:VEVENT
DTSTART;TZID=Europe/Berlin:20260521T193000
DTEND;TZID=Europe/Berlin:20260521T203000
DTSTAMP:20260421T133853
CREATED:20251029T093505Z
LAST-MODIFIED:20251202T124121Z
UID:10009569-1779391800-1779395400@quer-leimen.de
SUMMARY:Sport für Frauen
DESCRIPTION:
URL:https://quer-leimen.de/veranstaltungen/sport-fuer-frauen/2026-05-21/
LOCATION:Bürgerhaus Leimen\, Nußlocher Straße 16\, Leimen\, 69181\, Deutschland
ATTACH;FMTTYPE=application/pdf:https://quer-leimen.de/wp-content/uploads/2025/10/WerbungFrauensport.pdf
END:VEVENT
BEGIN:VEVENT
DTSTART;TZID=Europe/Berlin:20260528T193000
DTEND;TZID=Europe/Berlin:20260528T203000
DTSTAMP:20260421T133853
CREATED:20251029T093505Z
LAST-MODIFIED:20251202T124121Z
UID:10009570-1779996600-1780000200@quer-leimen.de
SUMMARY:Sport für Frauen
DESCRIPTION:
URL:https://quer-leimen.de/veranstaltungen/sport-fuer-frauen/2026-05-28/
LOCATION:Bürgerhaus Leimen\, Nußlocher Straße 16\, Leimen\, 69181\, Deutschland
ATTACH;FMTTYPE=application/pdf:https://quer-leimen.de/wp-content/uploads/2025/10/WerbungFrauensport.pdf
END:VEVENT
BEGIN:VEVENT
DTSTART;TZID=Europe/Berlin:20260604T193000
DTEND;TZID=Europe/Berlin:20260604T203000
DTSTAMP:20260421T133853
CREATED:20251029T093505Z
LAST-MODIFIED:20251202T124121Z
UID:10009571-1780601400-1780605000@quer-leimen.de
SUMMARY:Sport für Frauen
DESCRIPTION:
URL:https://quer-leimen.de/veranstaltungen/sport-fuer-frauen/2026-06-04/
LOCATION:Bürgerhaus Leimen\, Nußlocher Straße 16\, Leimen\, 69181\, Deutschland
ATTACH;FMTTYPE=application/pdf:https://quer-leimen.de/wp-content/uploads/2025/10/WerbungFrauensport.pdf
END:VEVENT
BEGIN:VEVENT
DTSTART;TZID=Europe/Berlin:20260611T193000
DTEND;TZID=Europe/Berlin:20260611T203000
DTSTAMP:20260421T133853
CREATED:20251029T093505Z
LAST-MODIFIED:20251202T124121Z
UID:10009572-1781206200-1781209800@quer-leimen.de
SUMMARY:Sport für Frauen
DESCRIPTION:
URL:https://quer-leimen.de/veranstaltungen/sport-fuer-frauen/2026-06-11/
LOCATION:Bürgerhaus Leimen\, Nußlocher Straße 16\, Leimen\, 69181\, Deutschland
ATTACH;FMTTYPE=application/pdf:https://quer-leimen.de/wp-content/uploads/2025/10/WerbungFrauensport.pdf
END:VEVENT
BEGIN:VEVENT
DTSTART;TZID=Europe/Berlin:20260618T193000
DTEND;TZID=Europe/Berlin:20260618T203000
DTSTAMP:20260421T133853
CREATED:20251029T093505Z
LAST-MODIFIED:20251202T124121Z
UID:10009573-1781811000-1781814600@quer-leimen.de
SUMMARY:Sport für Frauen
DESCRIPTION:
URL:https://quer-leimen.de/veranstaltungen/sport-fuer-frauen/2026-06-18/
LOCATION:Bürgerhaus Leimen\, Nußlocher Straße 16\, Leimen\, 69181\, Deutschland
ATTACH;FMTTYPE=application/pdf:https://quer-leimen.de/wp-content/uploads/2025/10/WerbungFrauensport.pdf
END:VEVENT
BEGIN:VEVENT
DTSTART;TZID=Europe/Berlin:20260625T193000
DTEND;TZID=Europe/Berlin:20260625T203000
DTSTAMP:20260421T133853
CREATED:20251029T093505Z
LAST-MODIFIED:20251202T124121Z
UID:10009574-1782415800-1782419400@quer-leimen.de
SUMMARY:Sport für Frauen
DESCRIPTION:
URL:https://quer-leimen.de/veranstaltungen/sport-fuer-frauen/2026-06-25/
LOCATION:Bürgerhaus Leimen\, Nußlocher Straße 16\, Leimen\, 69181\, Deutschland
ATTACH;FMTTYPE=application/pdf:https://quer-leimen.de/wp-content/uploads/2025/10/WerbungFrauensport.pdf
END:VEVENT
BEGIN:VEVENT
DTSTART;TZID=Europe/Berlin:20260702T193000
DTEND;TZID=Europe/Berlin:20260702T203000
DTSTAMP:20260421T133853
CREATED:20251029T093505Z
LAST-MODIFIED:20251202T124121Z
UID:10009575-1783020600-1783024200@quer-leimen.de
SUMMARY:Sport für Frauen
DESCRIPTION:
URL:https://quer-leimen.de/veranstaltungen/sport-fuer-frauen/2026-07-02/
LOCATION:Bürgerhaus Leimen\, Nußlocher Straße 16\, Leimen\, 69181\, Deutschland
ATTACH;FMTTYPE=application/pdf:https://quer-leimen.de/wp-content/uploads/2025/10/WerbungFrauensport.pdf
END:VEVENT
BEGIN:VEVENT
DTSTART;TZID=Europe/Berlin:20260709T193000
DTEND;TZID=Europe/Berlin:20260709T203000
DTSTAMP:20260421T133853
CREATED:20251029T093505Z
LAST-MODIFIED:20251202T124121Z
UID:10009576-1783625400-1783629000@quer-leimen.de
SUMMARY:Sport für Frauen
DESCRIPTION:
URL:https://quer-leimen.de/veranstaltungen/sport-fuer-frauen/2026-07-09/
LOCATION:Bürgerhaus Leimen\, Nußlocher Straße 16\, Leimen\, 69181\, Deutschland
ATTACH;FMTTYPE=application/pdf:https://quer-leimen.de/wp-content/uploads/2025/10/WerbungFrauensport.pdf
END:VEVENT
BEGIN:VEVENT
DTSTART;TZID=Europe/Berlin:20260716T193000
DTEND;TZID=Europe/Berlin:20260716T203000
DTSTAMP:20260421T133853
CREATED:20251029T093505Z
LAST-MODIFIED:20251202T124121Z
UID:10009577-1784230200-1784233800@quer-leimen.de
SUMMARY:Sport für Frauen
DESCRIPTION:
URL:https://quer-leimen.de/veranstaltungen/sport-fuer-frauen/2026-07-16/
LOCATION:Bürgerhaus Leimen\, Nußlocher Straße 16\, Leimen\, 69181\, Deutschland
ATTACH;FMTTYPE=application/pdf:https://quer-leimen.de/wp-content/uploads/2025/10/WerbungFrauensport.pdf
END:VEVENT
BEGIN:VEVENT
DTSTART;TZID=Europe/Berlin:20260723T193000
DTEND;TZID=Europe/Berlin:20260723T203000
DTSTAMP:20260421T133853
CREATED:20251029T093505Z
LAST-MODIFIED:20251202T124121Z
UID:10009578-1784835000-1784838600@quer-leimen.de
SUMMARY:Sport für Frauen
DESCRIPTION:
URL:https://quer-leimen.de/veranstaltungen/sport-fuer-frauen/2026-07-23/
LOCATION:Bürgerhaus Leimen\, Nußlocher Straße 16\, Leimen\, 69181\, Deutschland
ATTACH;FMTTYPE=application/pdf:https://quer-leimen.de/wp-content/uploads/2025/10/WerbungFrauensport.pdf
END:VEVENT
BEGIN:VEVENT
DTSTART;TZID=Europe/Berlin:20260730T193000
DTEND;TZID=Europe/Berlin:20260730T203000
DTSTAMP:20260421T133853
CREATED:20251029T093505Z
LAST-MODIFIED:20251202T124121Z
UID:10009579-1785439800-1785443400@quer-leimen.de
SUMMARY:Sport für Frauen
DESCRIPTION:
URL:https://quer-leimen.de/veranstaltungen/sport-fuer-frauen/2026-07-30/
LOCATION:Bürgerhaus Leimen\, Nußlocher Straße 16\, Leimen\, 69181\, Deutschland
ATTACH;FMTTYPE=application/pdf:https://quer-leimen.de/wp-content/uploads/2025/10/WerbungFrauensport.pdf
END:VEVENT
BEGIN:VEVENT
DTSTART;TZID=Europe/Berlin:20260806T193000
DTEND;TZID=Europe/Berlin:20260806T203000
DTSTAMP:20260421T133853
CREATED:20251029T093505Z
LAST-MODIFIED:20251202T124121Z
UID:10009580-1786044600-1786048200@quer-leimen.de
SUMMARY:Sport für Frauen
DESCRIPTION:
URL:https://quer-leimen.de/veranstaltungen/sport-fuer-frauen/2026-08-06/
LOCATION:Bürgerhaus Leimen\, Nußlocher Straße 16\, Leimen\, 69181\, Deutschland
ATTACH;FMTTYPE=application/pdf:https://quer-leimen.de/wp-content/uploads/2025/10/WerbungFrauensport.pdf
END:VEVENT
BEGIN:VEVENT
DTSTART;TZID=Europe/Berlin:20260813T193000
DTEND;TZID=Europe/Berlin:20260813T203000
DTSTAMP:20260421T133853
CREATED:20251029T093505Z
LAST-MODIFIED:20251202T124121Z
UID:10009581-1786649400-1786653000@quer-leimen.de
SUMMARY:Sport für Frauen
DESCRIPTION:
URL:https://quer-leimen.de/veranstaltungen/sport-fuer-frauen/2026-08-13/
LOCATION:Bürgerhaus Leimen\, Nußlocher Straße 16\, Leimen\, 69181\, Deutschland
ATTACH;FMTTYPE=application/pdf:https://quer-leimen.de/wp-content/uploads/2025/10/WerbungFrauensport.pdf
END:VEVENT
BEGIN:VEVENT
DTSTART;TZID=Europe/Berlin:20260820T193000
DTEND;TZID=Europe/Berlin:20260820T203000
DTSTAMP:20260421T133853
CREATED:20251029T093505Z
LAST-MODIFIED:20251202T124121Z
UID:10009582-1787254200-1787257800@quer-leimen.de
SUMMARY:Sport für Frauen
DESCRIPTION:
URL:https://quer-leimen.de/veranstaltungen/sport-fuer-frauen/2026-08-20/
LOCATION:Bürgerhaus Leimen\, Nußlocher Straße 16\, Leimen\, 69181\, Deutschland
ATTACH;FMTTYPE=application/pdf:https://quer-leimen.de/wp-content/uploads/2025/10/WerbungFrauensport.pdf
END:VEVENT
BEGIN:VEVENT
DTSTART;TZID=Europe/Berlin:20260827T193000
DTEND;TZID=Europe/Berlin:20260827T203000
DTSTAMP:20260421T133853
CREATED:20251029T093505Z
LAST-MODIFIED:20251202T124121Z
UID:10009583-1787859000-1787862600@quer-leimen.de
SUMMARY:Sport für Frauen
DESCRIPTION:
URL:https://quer-leimen.de/veranstaltungen/sport-fuer-frauen/2026-08-27/
LOCATION:Bürgerhaus Leimen\, Nußlocher Straße 16\, Leimen\, 69181\, Deutschland
ATTACH;FMTTYPE=application/pdf:https://quer-leimen.de/wp-content/uploads/2025/10/WerbungFrauensport.pdf
END:VEVENT
BEGIN:VEVENT
DTSTART;TZID=Europe/Berlin:20260903T193000
DTEND;TZID=Europe/Berlin:20260903T203000
DTSTAMP:20260421T133853
CREATED:20251029T093505Z
LAST-MODIFIED:20251202T124121Z
UID:10009584-1788463800-1788467400@quer-leimen.de
SUMMARY:Sport für Frauen
DESCRIPTION:
URL:https://quer-leimen.de/veranstaltungen/sport-fuer-frauen/2026-09-03/
LOCATION:Bürgerhaus Leimen\, Nußlocher Straße 16\, Leimen\, 69181\, Deutschland
ATTACH;FMTTYPE=application/pdf:https://quer-leimen.de/wp-content/uploads/2025/10/WerbungFrauensport.pdf
END:VEVENT
BEGIN:VEVENT
DTSTART;TZID=Europe/Berlin:20260910T193000
DTEND;TZID=Europe/Berlin:20260910T203000
DTSTAMP:20260421T133853
CREATED:20251029T093505Z
LAST-MODIFIED:20251202T124121Z
UID:10009585-1789068600-1789072200@quer-leimen.de
SUMMARY:Sport für Frauen
DESCRIPTION:
URL:https://quer-leimen.de/veranstaltungen/sport-fuer-frauen/2026-09-10/
LOCATION:Bürgerhaus Leimen\, Nußlocher Straße 16\, Leimen\, 69181\, Deutschland
ATTACH;FMTTYPE=application/pdf:https://quer-leimen.de/wp-content/uploads/2025/10/WerbungFrauensport.pdf
END:VEVENT
BEGIN:VEVENT
DTSTART;TZID=Europe/Berlin:20260917T193000
DTEND;TZID=Europe/Berlin:20260917T203000
DTSTAMP:20260421T133853
CREATED:20251029T093505Z
LAST-MODIFIED:20251202T124121Z
UID:10009586-1789673400-1789677000@quer-leimen.de
SUMMARY:Sport für Frauen
DESCRIPTION:
URL:https://quer-leimen.de/veranstaltungen/sport-fuer-frauen/2026-09-17/
LOCATION:Bürgerhaus Leimen\, Nußlocher Straße 16\, Leimen\, 69181\, Deutschland
ATTACH;FMTTYPE=application/pdf:https://quer-leimen.de/wp-content/uploads/2025/10/WerbungFrauensport.pdf
END:VEVENT
BEGIN:VEVENT
DTSTART;TZID=Europe/Berlin:20260924T193000
DTEND;TZID=Europe/Berlin:20260924T203000
DTSTAMP:20260421T133853
CREATED:20251029T093505Z
LAST-MODIFIED:20251202T124121Z
UID:10009587-1790278200-1790281800@quer-leimen.de
SUMMARY:Sport für Frauen
DESCRIPTION:
URL:https://quer-leimen.de/veranstaltungen/sport-fuer-frauen/2026-09-24/
LOCATION:Bürgerhaus Leimen\, Nußlocher Straße 16\, Leimen\, 69181\, Deutschland
ATTACH;FMTTYPE=application/pdf:https://quer-leimen.de/wp-content/uploads/2025/10/WerbungFrauensport.pdf
END:VEVENT
BEGIN:VEVENT
DTSTART;TZID=Europe/Berlin:20261001T193000
DTEND;TZID=Europe/Berlin:20261001T203000
DTSTAMP:20260421T133853
CREATED:20251029T093505Z
LAST-MODIFIED:20251202T124121Z
UID:10009588-1790883000-1790886600@quer-leimen.de
SUMMARY:Sport für Frauen
DESCRIPTION:
URL:https://quer-leimen.de/veranstaltungen/sport-fuer-frauen/2026-10-01/
LOCATION:Bürgerhaus Leimen\, Nußlocher Straße 16\, Leimen\, 69181\, Deutschland
ATTACH;FMTTYPE=application/pdf:https://quer-leimen.de/wp-content/uploads/2025/10/WerbungFrauensport.pdf
END:VEVENT
BEGIN:VEVENT
DTSTART;TZID=Europe/Berlin:20261008T193000
DTEND;TZID=Europe/Berlin:20261008T203000
DTSTAMP:20260421T133853
CREATED:20251029T093505Z
LAST-MODIFIED:20251202T124121Z
UID:10009589-1791487800-1791491400@quer-leimen.de
SUMMARY:Sport für Frauen
DESCRIPTION:
URL:https://quer-leimen.de/veranstaltungen/sport-fuer-frauen/2026-10-08/
LOCATION:Bürgerhaus Leimen\, Nußlocher Straße 16\, Leimen\, 69181\, Deutschland
ATTACH;FMTTYPE=application/pdf:https://quer-leimen.de/wp-content/uploads/2025/10/WerbungFrauensport.pdf
END:VEVENT
BEGIN:VEVENT
DTSTART;TZID=Europe/Berlin:20261015T193000
DTEND;TZID=Europe/Berlin:20261015T203000
DTSTAMP:20260421T133853
CREATED:20251029T093505Z
LAST-MODIFIED:20251202T124121Z
UID:10009590-1792092600-1792096200@quer-leimen.de
SUMMARY:Sport für Frauen
DESCRIPTION:
URL:https://quer-leimen.de/veranstaltungen/sport-fuer-frauen/2026-10-15/
LOCATION:Bürgerhaus Leimen\, Nußlocher Straße 16\, Leimen\, 69181\, Deutschland
ATTACH;FMTTYPE=application/pdf:https://quer-leimen.de/wp-content/uploads/2025/10/WerbungFrauensport.pdf
END:VEVENT
BEGIN:VEVENT
DTSTART;TZID=Europe/Berlin:20261022T193000
DTEND;TZID=Europe/Berlin:20261022T203000
DTSTAMP:20260421T133853
CREATED:20251029T093505Z
LAST-MODIFIED:20251202T124121Z
UID:10009591-1792697400-1792701000@quer-leimen.de
SUMMARY:Sport für Frauen
DESCRIPTION:
URL:https://quer-leimen.de/veranstaltungen/sport-fuer-frauen/2026-10-22/
LOCATION:Bürgerhaus Leimen\, Nußlocher Straße 16\, Leimen\, 69181\, Deutschland
ATTACH;FMTTYPE=application/pdf:https://quer-leimen.de/wp-content/uploads/2025/10/WerbungFrauensport.pdf
END:VEVENT
BEGIN:VEVENT
DTSTART;TZID=Europe/Berlin:20261029T193000
DTEND;TZID=Europe/Berlin:20261029T203000
DTSTAMP:20260421T133853
CREATED:20251029T093505Z
LAST-MODIFIED:20251202T124121Z
UID:10009592-1793302200-1793305800@quer-leimen.de
SUMMARY:Sport für Frauen
DESCRIPTION:
URL:https://quer-leimen.de/veranstaltungen/sport-fuer-frauen/2026-10-29/
LOCATION:Bürgerhaus Leimen\, Nußlocher Straße 16\, Leimen\, 69181\, Deutschland
ATTACH;FMTTYPE=application/pdf:https://quer-leimen.de/wp-content/uploads/2025/10/WerbungFrauensport.pdf
END:VEVENT
BEGIN:VEVENT
DTSTART;TZID=Europe/Berlin:20261105T193000
DTEND;TZID=Europe/Berlin:20261105T203000
DTSTAMP:20260421T133853
CREATED:20251029T093505Z
LAST-MODIFIED:20251202T124121Z
UID:10009593-1793907000-1793910600@quer-leimen.de
SUMMARY:Sport für Frauen
DESCRIPTION:
URL:https://quer-leimen.de/veranstaltungen/sport-fuer-frauen/2026-11-05/
LOCATION:Bürgerhaus Leimen\, Nußlocher Straße 16\, Leimen\, 69181\, Deutschland
ATTACH;FMTTYPE=application/pdf:https://quer-leimen.de/wp-content/uploads/2025/10/WerbungFrauensport.pdf
END:VEVENT
BEGIN:VEVENT
DTSTART;TZID=Europe/Berlin:20261112T193000
DTEND;TZID=Europe/Berlin:20261112T203000
DTSTAMP:20260421T133853
CREATED:20251029T093505Z
LAST-MODIFIED:20251202T124121Z
UID:10009594-1794511800-1794515400@quer-leimen.de
SUMMARY:Sport für Frauen
DESCRIPTION:
URL:https://quer-leimen.de/veranstaltungen/sport-fuer-frauen/2026-11-12/
LOCATION:Bürgerhaus Leimen\, Nußlocher Straße 16\, Leimen\, 69181\, Deutschland
ATTACH;FMTTYPE=application/pdf:https://quer-leimen.de/wp-content/uploads/2025/10/WerbungFrauensport.pdf
END:VEVENT
END:VCALENDAR